BEGIN:VCALENDAR
VERSION:2.0
PRODID:-//Squarespace Inc/Squarespace 6//v6//EN
BEGIN:VEVENT
UID:5d81ba82aaa0181ffd20a95d@squarespace.com
DTSTAMP:20190924T011921Z
DTSTART:20191025T230000Z
DTEND:20191026T040000Z
SUMMARY:VCE Revision Lecture 2019
GEO:-37.808221;144.962912
LOCATION:RMIT Building 80\, 445 Swanston Street\, Melbourne\, Australia
END:VEVENT
END:VCALENDAR
