BEGIN:VCALENDAR
VERSION:2.0
PRODID:-//Squarespace Inc/Squarespace 6//v6//EN
BEGIN:VEVENT
UID:5d81bc6c2eff252b93f33bd7@squarespace.com
DTSTAMP:20190918T051943Z
DTSTART:20190919T060000Z
DTEND:20190919T080000Z
SUMMARY:Nature Play: Investigating the possibilities
GEO:-37.861111;144.818805
LOCATION:Altona Early Years Hub\, 103b Grieve Parade\, Altona\, VIC\, 3018\
 , Australia
END:VEVENT
END:VCALENDAR
