BEGIN:VCALENDAR
VERSION:2.0
PRODID:-//Squarespace Inc/Squarespace 6//v6//EN
BEGIN:VEVENT
UID:5df0de7a4ba53f728446dea1@squarespace.com
DTSTAMP:20191211T123959Z
DTSTART:20191128T070000Z
DTEND:20191128T090000Z
SUMMARY:AGM &amp\; 2019 Environment Education Awards
GEO:-37.820123;144.939833
LOCATION:Community Hub at The Dock\, Level 1\, 912 Collins Street\, Docklan
 ds\, Victoria\, Australia
END:VEVENT
END:VCALENDAR
